BEGIN:VCALENDAR
VERSION:2.0
PRODID:-//wp-events-plugin.com//7.0.4//EN
BEGIN:VEVENT
UID:5@sdmcbm.ac.in
DTSTART;TZID=Asia/Dili:20260430T090000
DTEND;TZID=Asia/Dili:20260430T170000
DTSTAMP:20260407T070609Z
URL:https://sdmcbm.ac.in/events/national-conference-2026/
SUMMARY:National Conference 2026
DESCRIPTION:Download Brochure\n\nRegister here
ATTACH;FMTTYPE=image/jpeg:https://sdmcbm.ac.in/wp-content/uploads/2026/04/
 cbm0704.png
CATEGORIES:Upcoming Events
END:VEVENT
BEGIN:VTIMEZONE
TZID:Asia/Dili
X-LIC-LOCATION:Asia/Dili
BEGIN:STANDARD
DTSTART:20250430T090000
TZOFFSETFROM:+0900
TZOFFSETTO:+0900
TZNAME:+09
END:STANDARD
END:VTIMEZONE
END:VCALENDAR